BEGIN:VCALENDAR
METHOD:PUBLISH
PRODID:Data::ICal 0.13
VERSION:2.0
BEGIN:VEVENT
DESCRIPTION:JOIN HOT 100.9 AND REAL ALTERNATIVES AS WE CELEBRATE 40 YEARS OF CIRCLE CITY CLASSIC PARADE IN DOWNTOWN INDIANAPOLIS ON SATURDAY, SEPTEMBER 28TH FROM 10A TO NOON. ENJOY THE PAGEANTRY, CELEBRITIES, FLOATS AND MARCHING BANDS AS THEY WIND THEIR WAY THROUGH THE STREETS OF INDIANAPOLIS. \n\nHot&#039;s PARADE PARTICIPATION IS BROUGHT TO YOU BY REAL ALTERNATIVES EMPOWERING WOMEN FOR LIFE.  \n\n\n\n\nPARADE ROUTE:\nBegins at North &amp; Pennsylvania Streets and ends on Meridian Street
DTSTAMP:20260424T054005Z
DTSTART;TZID=America/New_York:20240928T100000
DTEND;TZID=America/New_York:20240928T120000
LOCATION:Downtown Indianapolis
SUMMARY:CIRCLE CITY CLASSIC PARADE 2024!
UID:4195736-1727517600-1727524800
END:VEVENT
END:VCALENDAR
