BEGIN:VCALENDAR
METHOD:PUBLISH
PRODID:Data::ICal 0.13
VERSION:2.0
BEGIN:VEVENT
DESCRIPTION:The Healthful Living, Indiana Black &amp; Minority Health Fair will be at the\n\nINDIANA CONVENTION CENTER - HALLS J&amp;K on July 13-16, 2023!\n\n\nNO REGISTRATION REQUIRED!\n\nOver $3,500 in FREE screenings available! \n60 vendors providing information for adults &amp; youth, education and screenings on site!\n\n\n\nGo to  ➡ https://www.inbmhf.com for more info on 👇👇👇\nIMMUNIZATIONS / VACCINATIONS, EDUCATION, FREE SCREENINGS, BIRTH CERTIFICATES / VITAL RECORDS, &amp; BLOOD DONATION \n&nbsp;\nJULY 13 | 4 PM - 8 PM \nJULY 14 | 1 PM - 7 PM \nJULY 15 | 10 AM - 8 PM \nJULY 16 | 12 PM - 6 PM \n&nbsp;\n\n&nbsp;\n\n&nbsp;\n\n&nbsp;
DTSTAMP:20260424T072920Z
DTSTART;TZID=America/New_York:20230713T000000
DTEND;TZID=America/New_York:20230716T000000
LOCATION:Halls J &amp; K\, Indianapolis\, IN
SUMMARY:Healthful Living, Indiana Black &amp; Minority Health Fair!
UID:3680326-1689206400-1689465600
END:VEVENT
END:VCALENDAR
