BEGIN:VCALENDAR
METHOD:PUBLISH
PRODID:Data::ICal 0.13
VERSION:2.0
BEGIN:VEVENT
DESCRIPTION:Don&#039;t miss the GRAND OPENING of the new Hibbett Sports in University Heights!\nJoin us at the Southern Plaza Shopping Center on Saturday, August 17th from 11am-1pm to celebrate the grand opening of their new location. Stop by to enter for your chance at a $50 Hibbett gift card &amp; hang out with BSwift as he broadcasts LIVE on site! \nHibbett has you covered &quot;toe-to-head&quot; with all the biggest name in sports—Nike, Jordan, adidas and many more!
DTSTAMP:20260420T134242Z
DTSTART;TZID=America/New_York:20240817T110000
DTEND;TZID=America/New_York:20240817T130000
LOCATION:4200 S. East Street\, Indianapolis\, IN
SUMMARY:Hibbett Sports Grand Opening &#8211; University Heights
UID:4180911-1723892400-1723899600
END:VEVENT
END:VCALENDAR
