BEGIN:VCALENDAR
METHOD:PUBLISH
PRODID:Data::ICal 0.13
VERSION:2.0
BEGIN:VEVENT
DESCRIPTION:
DTSTAMP:20260424T091815Z
DTSTART;TZID=America/New_York:20221111T000000
DTEND;TZID=America/New_York:20221111T130000
LOCATION:5854 Crawfordsville Rd\, Speedway\, Indianapolis
SUMMARY:Join the New WHHH HOT 100.9 at Cricket Wireless in Speedway this Friday!
UID:3473656-1668124800-1668171600
END:VEVENT
END:VCALENDAR
